BEGIN:VCALENDAR
VERSION:2.0
PRODID:-//hacksw/handcal//NONSGML v1.0//EN
BEGIN:VEVENT
DTSTAMP:20251114T090000Z
DTSTART:20251114T090000Z
DTEND:20251114T160000Z
SUMMARY:Haushaltsklausur | CDU-Landtagsfraktion
END:VEVENT
END:VCALENDAR
