BEGIN:VCALENDAR
VERSION:2.0
PRODID:-//hacksw/handcal//NONSGML v1.0//EN
BEGIN:VEVENT
DTSTAMP:20251113T090000Z
DTSTART:20251113T090000Z
DTEND:20251113T130000Z
LOCATION:Landeshaus, Kiel, Deutschland
SUMMARY:Facharbeitskreise Soziales
END:VEVENT
END:VCALENDAR
