BEGIN:VCALENDAR
VERSION:2.0
PRODID:-//hacksw/handcal//NONSGML v1.0//EN
BEGIN:VEVENT
DTSTAMP:20251112T150000Z
DTSTART:20251112T150000Z
DTEND:20251112T180000Z
LOCATION:Landeshaus, Kiel, Deutschland
SUMMARY:Vereidigung und Feierliches Gelöbnis der Marineunteroffiziersschule
END:VEVENT
END:VCALENDAR
