BEGIN:VCALENDAR
VERSION:2.0
PRODID:-//hacksw/handcal//NONSGML v1.0//EN
BEGIN:VEVENT
DTSTAMP:20251110T090000Z
DTSTART:20251110T090000Z
DTEND:20251110T150000Z
SUMMARY:Haushaltsberatung | Sozial- und Finanzausschuss
END:VEVENT
END:VCALENDAR
