BEGIN:VCALENDAR
VERSION:2.0
PRODID:-//hacksw/handcal//NONSGML v1.0//EN
BEGIN:VEVENT
DTSTAMP:20251109T100000Z
DTSTART:20251109T100000Z
DTEND:20251109T110000Z
SUMMARY:Stolpersteine putzen - Gedenken an Reichspogromnacht
END:VEVENT
END:VCALENDAR
