BEGIN:VCALENDAR
VERSION:2.0
PRODID:-//hacksw/handcal//NONSGML v1.0//EN
BEGIN:VEVENT
DTSTAMP:20251107T170000Z
DTSTART:20251107T170000Z
DTEND:20251107T210000Z
SUMMARY:Mitgliederversammlung CDU Aumühle
END:VEVENT
END:VCALENDAR
