BEGIN:VCALENDAR
VERSION:2.0
PRODID:-//hacksw/handcal//NONSGML v1.0//EN
BEGIN:VEVENT
DTSTAMP:20251106T183000Z
DTSTART:20251106T183000Z
DTEND:20251106T203000Z
LOCATION:Historischer Bahnhof Friedrichsruh  , Am Bahnhof 2, Friedrichsruh,  21521 , Deutschland
SUMMARY:Bismarck-Stiftung: "Großadmiral Karl Dönitz – unbelehrbar und uneinsichtig"
END:VEVENT
END:VCALENDAR
