BEGIN:VCALENDAR
VERSION:2.0
PRODID:-//hacksw/handcal//NONSGML v1.0//EN
BEGIN:VEVENT
DTSTAMP:20251106T130000Z
DTSTART:20251106T130000Z
DTEND:20251106T170000Z
SUMMARY:Sozialausschuss im Landtag
END:VEVENT
END:VCALENDAR
