BEGIN:VCALENDAR
VERSION:2.0
PRODID:-//hacksw/handcal//NONSGML v1.0//EN
BEGIN:VEVENT
DTSTAMP:20251007T080000Z
DTSTART:20251007T080000Z
DTEND:20251007T100000Z
SUMMARY:Erweiterter Fraktionsvorstand
END:VEVENT
END:VCALENDAR
