BEGIN:VCALENDAR
VERSION:2.0
PRODID:-//hacksw/handcal//NONSGML v1.0//EN
BEGIN:VEVENT
DTSTAMP:20250621T220000Z
DTSTART:20250621T220000Z
DTEND:20250621T220000Z
LOCATION:Lauenburg,  Fürstengarten , Deutschland
SUMMARY:Internationales Kinderfest 
END:VEVENT
END:VCALENDAR
