BEGIN:VCALENDAR
VERSION:2.0
PRODID:-//hacksw/handcal//NONSGML v1.0//EN
BEGIN:VEVENT
DTSTAMP:20250616T220000Z
DTSTART:20250616T220000Z
DTEND:20250616T220000Z
LOCATION:Kiel, Deutschland
SUMMARY: CDU-Landesausschuss
END:VEVENT
END:VCALENDAR
