BEGIN:VCALENDAR
VERSION:2.0
PRODID:-//hacksw/handcal//NONSGML v1.0//EN
BEGIN:VEVENT
DTSTAMP:20250527T220000Z
DTSTART:20250527T220000Z
DTEND:20250527T220000Z
LOCATION:Lauenburg, Deutschland
SUMMARY:Gespräch mit der Stadtjugendpflegerin
END:VEVENT
END:VCALENDAR
