BEGIN:VCALENDAR
VERSION:2.0
PRODID:-//hacksw/handcal//NONSGML v1.0//EN
BEGIN:VEVENT
DTSTAMP:20250526T220000Z
DTSTART:20250526T220000Z
DTEND:20250526T220000Z
LOCATION:Büsum, Deutschland
SUMMARY:Klausurtagung CDU Landtagsfraktion
END:VEVENT
END:VCALENDAR
