BEGIN:VCALENDAR
VERSION:2.0
PRODID:-//hacksw/handcal//NONSGML v1.0//EN
BEGIN:VEVENT
DTSTAMP:20250324T230000Z
DTSTART:20250324T230000Z
DTEND:20250324T230000Z
LOCATION:Mölln, Deutschland
SUMMARY:Lauenburg'scher Teller
END:VEVENT
END:VCALENDAR
