BEGIN:VCALENDAR
VERSION:2.0
PRODID:-//hacksw/handcal//NONSGML v1.0//EN
BEGIN:VEVENT
DTSTAMP:20250315T230000Z
DTSTART:20250315T230000Z
DTEND:20250315T230000Z
LOCATION:Gülzow, Deutschland
SUMMARY:Boßeln der CDU Gülzow
END:VEVENT
END:VCALENDAR
