BEGIN:VCALENDAR
VERSION:2.0
PRODID:-//hacksw/handcal//NONSGML v1.0//EN
BEGIN:VEVENT
DTSTAMP:20250307T230000Z
DTSTART:20250307T230000Z
DTEND:20250307T230000Z
LOCATION:Mölln, Deutschland
SUMMARY:75 Jahre Kreisjugendring Herzogtum Lauenburg
END:VEVENT
END:VCALENDAR
