BEGIN:VCALENDAR
VERSION:2.0
PRODID:-//hacksw/handcal//NONSGML v1.0//EN
BEGIN:VEVENT
DTSTAMP:20250521T220000Z
DTSTART:20250521T220000Z
DTEND:20250521T220000Z
LOCATION:Landeshaus, Kiel, Deutschland
SUMMARY:Plenartagung Schleswig-Holsteinischer Landtag
END:VEVENT
END:VCALENDAR
