BEGIN:VCALENDAR
VERSION:2.0
PRODID:-//hacksw/handcal//NONSGML v1.0//EN
BEGIN:VEVENT
DTSTAMP:20250512T220000Z
DTSTART:20250512T220000Z
DTEND:20250512T220000Z
LOCATION:Landeshau, Kiel, Deutschland
SUMMARY:Sitzung CDU-Landtagsfraktion
END:VEVENT
END:VCALENDAR
