BEGIN:VCALENDAR
VERSION:2.0
PRODID:-//hacksw/handcal//NONSGML v1.0//EN
BEGIN:VEVENT
DTSTAMP:20250504T220000Z
DTSTART:20250504T220000Z
DTEND:20250508T220000Z
SUMMARY:Fraktionsreise
END:VEVENT
END:VCALENDAR
