BEGIN:VCALENDAR
VERSION:2.0
PRODID:-//hacksw/handcal//NONSGML v1.0//EN
BEGIN:VEVENT
DTSTAMP:20250406T220000Z
DTSTART:20250406T220000Z
DTEND:20250406T220000Z
LOCATION:Landeshaus, Kiel, Deutschland
SUMMARY:GAK Soziales: Klausurtagung 
END:VEVENT
END:VCALENDAR
