BEGIN:VCALENDAR
VERSION:2.0
PRODID:-//hacksw/handcal//NONSGML v1.0//EN
BEGIN:VEVENT
DTSTAMP:20250405T220000Z
DTSTART:20250405T220000Z
DTEND:20250405T220000Z
LOCATION:Schwarzenbek, Deutschland
SUMMARY:Kath. Kirchengemeinde St. Michael: "Fastenbier"
END:VEVENT
END:VCALENDAR
