BEGIN:VCALENDAR
VERSION:2.0
PRODID:-//hacksw/handcal//NONSGML v1.0//EN
BEGIN:VEVENT
DTSTAMP:20250312T230000Z
DTSTART:20250312T230000Z
DTEND:20250312T230000Z
LOCATION:Landeshaus, Kiel, Deutschland
SUMMARY:Sozialausschuss: Veranstaltung "Leid und Unrecht"
END:VEVENT
END:VCALENDAR
