BEGIN:VCALENDAR
VERSION:2.0
PRODID:-//hacksw/handcal//NONSGML v1.0//EN
BEGIN:VEVENT
DTSTAMP:20250214T230000Z
DTSTART:20250214T230000Z
DTEND:20250214T230000Z
LOCATION:Lauenburg, Deutschland
SUMMARY:Wahlkampfstand CDU Lauenburg
END:VEVENT
END:VCALENDAR
