BEGIN:VCALENDAR
VERSION:2.0
PRODID:-//hacksw/handcal//NONSGML v1.0//EN
BEGIN:VEVENT
DTSTAMP:20250212T230000Z
DTSTART:20250212T230000Z
DTEND:20250212T230000Z
LOCATION:Landeshaus, Kiel, Deutschland
SUMMARY:Sozialausschuss-Sondersitzung: Anhörung Frauengesundheit
END:VEVENT
END:VCALENDAR
