BEGIN:VCALENDAR
VERSION:2.0
PRODID:-//hacksw/handcal//NONSGML v1.0//EN
BEGIN:VEVENT
DTSTAMP:20250207T230000Z
DTSTART:20250207T230000Z
DTEND:20250207T230000Z
LOCATION:Aumühle und Wohltorf, Deutschland
SUMMARY:Wahlkampfstand Aumühle und Wohltorf
END:VEVENT
END:VCALENDAR
