BEGIN:VCALENDAR
VERSION:2.0
PRODID:-//hacksw/handcal//NONSGML v1.0//EN
BEGIN:VEVENT
DTSTAMP:20250131T230000Z
DTSTART:20250131T230000Z
DTEND:20250131T230000Z
LOCATION:Schwarzenbek, Deutschland
SUMMARY:Wahlkampfstand CDU Schwarzenbek
END:VEVENT
END:VCALENDAR
