BEGIN:VCALENDAR
VERSION:2.0
PRODID:-//hacksw/handcal//NONSGML v1.0//EN
BEGIN:VEVENT
DTSTAMP:20250130T230000Z
DTSTART:20250130T230000Z
DTEND:20250130T230000Z
LOCATION:Amühle, Deutschland
SUMMARY:Neujahrsempfang CDU Aumühle
END:VEVENT
END:VCALENDAR
