BEGIN:VCALENDAR
VERSION:2.0
PRODID:-//hacksw/handcal//NONSGML v1.0//EN
BEGIN:VEVENT
DTSTAMP:20250125T230000Z
DTSTART:20250125T230000Z
DTEND:20250125T230000Z
LOCATION:Escheburg, Deutschland
SUMMARY:Neujahrsempfang CDU Escheburg
END:VEVENT
END:VCALENDAR
