BEGIN:VCALENDAR
VERSION:2.0
PRODID:-//hacksw/handcal//NONSGML v1.0//EN
BEGIN:VEVENT
DTSTAMP:20250124T230000Z
DTSTART:20250124T230000Z
DTEND:20250124T230000Z
LOCATION:Elbschifffahrtsmuseum, Lauenburg, Deutschland
SUMMARY:Eröffnung Sonderausstellung "Grenzgeschichte(n) - die Grenze im Fluß"
END:VEVENT
END:VCALENDAR
