BEGIN:VCALENDAR
VERSION:2.0
PRODID:-//hacksw/handcal//NONSGML v1.0//EN
BEGIN:VEVENT
DTSTAMP:20250120T230000Z
DTSTART:20250120T230000Z
DTEND:20250120T230000Z
LOCATION:Holte Quellenhof, Mölln, Deutschland
SUMMARY:Neujahrsempfang CDU Herzogtum Lauenburg mit Dr. Carsten Linnemann
END:VEVENT
END:VCALENDAR
