BEGIN:VCALENDAR
VERSION:2.0
PRODID:-//hacksw/handcal//NONSGML v1.0//EN
BEGIN:VEVENT
DTSTAMP:20250119T230000Z
DTSTART:20250119T230000Z
DTEND:20250119T230000Z
LOCATION:Lütau, Deutschland
SUMMARY:Neujahrsessen Kreishandwerkerschaft Herzogtum Lauenburg
END:VEVENT
END:VCALENDAR
