BEGIN:VCALENDAR
VERSION:2.0
PRODID:-//hacksw/handcal//NONSGML v1.0//EN
BEGIN:VEVENT
DTSTAMP:20250114T230000Z
DTSTART:20250114T230000Z
DTEND:20250114T230000Z
LOCATION:MUK, Lübeck, Deutschland
SUMMARY:Neujahrsempfang IHK zu Lübeck
END:VEVENT
END:VCALENDAR
