BEGIN:VCALENDAR
VERSION:2.0
PRODID:-//hacksw/handcal//NONSGML v1.0//EN
BEGIN:VEVENT
DTSTAMP:20250112T230000Z
DTSTART:20250112T230000Z
DTEND:20250112T230000Z
LOCATION:Duvensee, Deutschland
SUMMARY:Sitzung Kreisvorstand CDU Herzogtum Lauenburg
END:VEVENT
END:VCALENDAR
