BEGIN:VCALENDAR
VERSION:2.0
PRODID:-//hacksw/handcal//NONSGML v1.0//EN
BEGIN:VEVENT
DTSTAMP:20240111T230000Z
DTSTART:20240111T230000Z
DTEND:20240111T230000Z
LOCATION:Geesthacht, Deutschland
SUMMARY:Neujahrsempfang Stadt Geesthacht
END:VEVENT
END:VCALENDAR
