BEGIN:VCALENDAR
VERSION:2.0
PRODID:-//hacksw/handcal//NONSGML v1.0//EN
BEGIN:VEVENT
DTSTAMP:20240110T230000Z
DTSTART:20240110T230000Z
DTEND:20240110T230000Z
LOCATION:Kröppelshagen-Fahrendorf, Deutschland
SUMMARY:CDU Kröppelshagen: Tannenbaumschreddern
END:VEVENT
END:VCALENDAR
