BEGIN:VCALENDAR
VERSION:2.0
PRODID:-//hacksw/handcal//NONSGML v1.0//EN
BEGIN:VEVENT
DTSTAMP:20250110T180000Z
DTSTART:20250110T180000Z
DTEND:20250110T180000Z
LOCATION:Friedrichsruh, Deutschland
SUMMARY:Neujahrsempfang 2025 der Otto-von-Bismarck-Stiftung
END:VEVENT
END:VCALENDAR
