BEGIN:VCALENDAR
VERSION:2.0
PRODID:-//hacksw/handcal//NONSGML v1.0//EN
BEGIN:VEVENT
DTSTAMP:20250105T100000Z
DTSTART:20250105T100000Z
DTEND:20250105T100000Z
LOCATION:Brunstorf, Deutschland
SUMMARY:Neujahrsempfang Gemeinde Brunstorf
END:VEVENT
END:VCALENDAR
