BEGIN:VCALENDAR
VERSION:2.0
PRODID:-//hacksw/handcal//NONSGML v1.0//EN
BEGIN:VEVENT
DTSTAMP:20250103T180000Z
DTSTART:20250103T180000Z
DTEND:20250103T180000Z
LOCATION:Lauenburg, Deutschland
SUMMARY:Neujahrsempfang Stadt Lauenburg
END:VEVENT
END:VCALENDAR
