BEGIN:VCALENDAR
VERSION:2.0
PRODID:-//hacksw/handcal//NONSGML v1.0//EN
BEGIN:VEVENT
DTSTAMP:20241218T170000Z
DTSTART:20241218T170000Z
DTEND:20241218T170000Z
LOCATION:Holsten Hallen, Neumünster, Deutschland
SUMMARY:SportGala des Landessportverbandes
END:VEVENT
END:VCALENDAR
