BEGIN:VCALENDAR
VERSION:2.0
PRODID:-//hacksw/handcal//NONSGML v1.0//EN
BEGIN:VEVENT
DTSTAMP:20241216T180000Z
DTSTART:20241216T180000Z
DTEND:20241216T180000Z
LOCATION:Aumühle, Deutschland
SUMMARY:Freiwillige Feuerwehr Aumühle: Weihnachtsfeier 
END:VEVENT
END:VCALENDAR
