BEGIN:VCALENDAR
VERSION:2.0
PRODID:-//hacksw/handcal//NONSGML v1.0//EN
BEGIN:VEVENT
DTSTAMP:20241209T090000Z
DTSTART:20241209T090000Z
DTEND:20241209T090000Z
LOCATION:Schwarzenbek, Deutschland
SUMMARY:Gespräch Grund- und Gemeinschaftsschule Schwarzenbek
END:VEVENT
END:VCALENDAR
