BEGIN:VCALENDAR
VERSION:2.0
PRODID:-//hacksw/handcal//NONSGML v1.0//EN
BEGIN:VEVENT
DTSTAMP:20241206T183000Z
DTSTART:20241206T183000Z
DTEND:20241206T183000Z
LOCATION:Wohltorf, Deutschland
SUMMARY:Mitgliederversammlung CDU Wohltorf
END:VEVENT
END:VCALENDAR
