BEGIN:VCALENDAR
VERSION:2.0
PRODID:-//hacksw/handcal//NONSGML v1.0//EN
BEGIN:VEVENT
DTSTAMP:20241206T150000Z
DTSTART:20241206T150000Z
DTEND:20241206T150000Z
LOCATION:Kirchberg, Wohltorf, Deutschland
SUMMARY:Einweihung Gemeindesaal und Kita
END:VEVENT
END:VCALENDAR
