BEGIN:VCALENDAR
VERSION:2.0
PRODID:-//hacksw/handcal//NONSGML v1.0//EN
BEGIN:VEVENT
DTSTAMP:20241205T103000Z
DTSTART:20241205T103000Z
DTEND:20241205T103000Z
LOCATION:Landeshaus, Kiel, Deutschland
SUMMARY:GAK Soziales
END:VEVENT
END:VCALENDAR
