BEGIN:VCALENDAR
VERSION:2.0
PRODID:-//hacksw/handcal//NONSGML v1.0//EN
BEGIN:VEVENT
DTSTAMP:20241204T150000Z
DTSTART:20241204T150000Z
DTEND:20241204T150000Z
LOCATION:Landeshaus, Kiel, Deutschland
SUMMARY:Sozialausschuss Landtag : Haushaltsberatungen
END:VEVENT
END:VCALENDAR
