BEGIN:VCALENDAR
VERSION:2.0
PRODID:-//hacksw/handcal//NONSGML v1.0//EN
BEGIN:VEVENT
DTSTAMP:20241203T100000Z
DTSTART:20241203T100000Z
DTEND:20241203T110000Z
LOCATION:Landeshaus, Kiel, Deutschland
SUMMARY:Sitzung des Fraktionsvorstandes
END:VEVENT
END:VCALENDAR
