BEGIN:VCALENDAR
VERSION:2.0
PRODID:-//hacksw/handcal//NONSGML v1.0//EN
BEGIN:VEVENT
DTSTAMP:20241202T180000Z
DTSTART:20241202T180000Z
DTEND:20241202T210000Z
LOCATION:Lauenburger Hof, Trittau, Deutschland
SUMMARY:Ortsvorsitzendenkonferenz zur Bundestagswahl
END:VEVENT
END:VCALENDAR
