BEGIN:VCALENDAR
VERSION:2.0
PRODID:-//hacksw/handcal//NONSGML v1.0//EN
BEGIN:VEVENT
DTSTAMP:20241120T090000Z
DTSTART:20241120T090000Z
DTEND:20241120T170000Z
LOCATION:Landeshaus, Kiel, Deutschland
SUMMARY:Plenartagung des Schleswig-Holsteinischen Landtages
END:VEVENT
END:VCALENDAR
