BEGIN:VCALENDAR
VERSION:2.0
PRODID:-//hacksw/handcal//NONSGML v1.0//EN
BEGIN:VEVENT
DTSTAMP:20241118T100000Z
DTSTART:20241118T100000Z
DTEND:20241118T130000Z
LOCATION:Hitzler Werft, Lauenburg, Deutschland
SUMMARY:Taufe Forschungsschiff "Coriolis" mit Ministerin Prien
END:VEVENT
END:VCALENDAR
