BEGIN:VCALENDAR
VERSION:2.0
PRODID:-//hacksw/handcal//NONSGML v1.0//EN
BEGIN:VEVENT
DTSTAMP:20241117T101500Z
DTSTART:20241117T101500Z
DTEND:20241117T120000Z
LOCATION:Aumühle, Deutschland
SUMMARY:Gedenkfeier Volkstrauertag
END:VEVENT
END:VCALENDAR
